BEGIN:VCALENDAR
VERSION:2.0
PRODID:-//Project Management Global - ECPv6.5.1.4//NONSGML v1.0//EN
CALSCALE:GREGORIAN
METHOD:PUBLISH
X-WR-CALNAME:Project Management Global
X-ORIGINAL-URL:http://www.pm-global.co.uk
X-WR-CALDESC:Events for Project Management Global
REFRESH-INTERVAL;VALUE=DURATION:PT1H
X-Robots-Tag:noindex
X-PUBLISHED-TTL:PT1H
BEGIN:VTIMEZONE
TZID:Europe/London
BEGIN:DAYLIGHT
TZOFFSETFROM:+0000
TZOFFSETTO:+0100
TZNAME:BST
DTSTART:20240331T010000
END:DAYLIGHT
BEGIN:STANDARD
TZOFFSETFROM:+0100
TZOFFSETTO:+0000
TZNAME:GMT
DTSTART:20241027T010000
END:STANDARD
END:VTIMEZONE
BEGIN:VEVENT
DTSTART;TZID=Europe/London:20240627T180000
DTEND;TZID=Europe/London:20240627T203000
DTSTAMP:20260420T114214
CREATED:20240430T143352Z
LAST-MODIFIED:20240430T143352Z
UID:10000049-1719511200-1719520200@www.pm-global.co.uk
SUMMARY:Actions that get results!
DESCRIPTION:Member: Free \nNon-member: £10 \nCorporate Partner/Affiliate employee: £10
URL:http://www.pm-global.co.uk/latestevent/actions-that-get-results/
LOCATION:Birmingham\, Birmingham\, United Kingdom
END:VEVENT
END:VCALENDAR